BEGIN:VCALENDAR
VERSION:2.0
PRODID:-//eventon.com NONSGML v1.0//EN
CALSCALE:GREGORIAN
METHOD:PUBLISH
BEGIN:VEVENT
UID:69e739a2adcb2
DTSTAMP:20260421T084730Z
DTSTART:20230622
DTEND:20230623
LOCATION:
SUMMARY:Chiringuitos y atracciones durante las Fiestas Mayores
DESCRIPTION:En el Recinto Ferial. Apertura el jueves 22 a las 19.30 horas. 
 Entorno sensorial amable para personas con discapacidad sensorial especial.
  Todos los días de 19:30 a 21:30 h. en el recinto de atracciones. Entrada 
 preferente a las atracciones para personas con discapacidad. Cambiador y sa
 la de lactancia junto a[..]\nhttps://360y5.es/events/chiringuitos-y-atracci
 ones-durante-las-fiestas-mayores/
URL:https://360y5.es/events/chiringuitos-y-atracciones-durante-las-fiestas-mayores/
END:VEVENT
END:VCALENDAR