BEGIN:VCALENDAR
VERSION:2.0
PRODID:-//eventon.com NONSGML v1.0//EN
CALSCALE:GREGORIAN
METHOD:PUBLISH
BEGIN:VEVENT
UID:69e739a2c013b
DTSTAMP:20260421T084730Z
DTSTART:20230624T173000Z
DTEND:20230624T190000Z
LOCATION:
SUMMARY:Jira: Fiesta tradicional asturiana
DESCRIPTION:Plaza de la Familia. Con castillos hinchables para los más peq
 ueños. Organiza Centro Asturiano «Aires de Asturias»\nhttps://360y5.es/e
 vents/jira-fiesta-tradicional-asturiana/
URL:https://360y5.es/events/jira-fiesta-tradicional-asturiana/
END:VEVENT
END:VCALENDAR