BEGIN:VCALENDAR
VERSION:2.0
PRODID:-//eventon.com NONSGML v1.0//EN
CALSCALE:GREGORIAN
METHOD:PUBLISH
BEGIN:VEVENT
UID:69e73a2fba0ab
DTSTAMP:20260421T084951Z
DTSTART:20230623T215500Z
DTEND:20230623T215500Z
LOCATION:
SUMMARY:Concierto: Camela
DESCRIPTION:A partir de las 00:30 horas en el Escenario Principal.\nhttps:/
 /360y5.es/events/concierto-camela/
URL:https://360y5.es/events/concierto-camela/
END:VEVENT
END:VCALENDAR