BEGIN:VCALENDAR
VERSION:2.0
PRODID:-//eventon.com NONSGML v1.0//EN
CALSCALE:GREGORIAN
METHOD:PUBLISH
BEGIN:VEVENT
UID:69e728aeae17c
DTSTAMP:20260421T073510Z
DTSTART:20230624T210000Z
DTEND:20230624T215500Z
LOCATION:
SUMMARY:Concierto: Ana Torroja
DESCRIPTION:En el Escenario Principal.\nhttps://360y5.es/events/concierto-a
 na-torroja/
URL:https://360y5.es/events/concierto-ana-torroja/
END:VEVENT
END:VCALENDAR