BEGIN:VCALENDAR
VERSION:2.0
PRODID:-//eventon.com NONSGML v1.0//EN
CALSCALE:GREGORIAN
METHOD:PUBLISH
BEGIN:VEVENT
UID:69e7270488956
DTSTAMP:20260421T072804Z
DTSTART:20230625T213000Z
DTEND:20230625T215500Z
LOCATION:
SUMMARY:Concierto: Chema Rivas
DESCRIPTION:En el Escenario Principal.\nhttps://360y5.es/events/concierto-c
 hema-rivas/
URL:https://360y5.es/events/concierto-chema-rivas/
END:VEVENT
END:VCALENDAR