BEGIN:VCALENDAR
VERSION:2.0
PRODID:-//eventon.com NONSGML v1.0//EN
CALSCALE:GREGORIAN
METHOD:PUBLISH
BEGIN:VEVENT
UID:69ecebf6536c8
DTSTAMP:20260425T162942Z
DTSTART:20230602T160000Z
DTEND:20230602T164500Z
LOCATION:Biblioteca municipal Fundación Caja Madrid
SUMMARY:La hora de los cuentos: De la tierra a la luna
DESCRIPTION:CUENTACUENTOS: Nelson Calderón XXXV Muestra del Libro Infantil
  y Juvenil Te proponemos un sorprendente recorrido de la Tierra a la Luna\,
   en un viaje de ida y vuelta. En la Tierra conoceremos a un oso muy peculi
 ar y a una cabra glotona\,  en el aire veremos qué pájaro es el[..]\nhttp
 s://360y5.es/events/la-hora-de-los-cuentos-de-la-tierra-a-la-luna/
URL:https://360y5.es/events/la-hora-de-los-cuentos-de-la-tierra-a-la-luna/
END:VEVENT
END:VCALENDAR