BEGIN:VCALENDAR
VERSION:2.0
PRODID:-//eventon.com NONSGML v1.0//EN
CALSCALE:GREGORIAN
METHOD:PUBLISH
BEGIN:VEVENT
UID:69e72872709a9
DTSTAMP:20260421T073410Z
DTSTART:20230617T070000Z
DTEND:20230617T190000Z
LOCATION:
SUMMARY:Torneo frontenis fiestas de San Juan
DESCRIPTION:Instalación: Fronton Con motivo de las Fiestas Patronales de T
 res Cantos\,  de nuevo se celebrará el Torneo de Frontenis. Una modalidad 
 que poco a poco está creciendo en el municipio. Información e inscripció
 n: info.frontenis@gmail.com\nhttps://360y5.es/events/torneo-frontenis-fiest
 as-de-san-juan/
URL:https://360y5.es/events/torneo-frontenis-fiestas-de-san-juan/
END:VEVENT
END:VCALENDAR