BEGIN:VCALENDAR
VERSION:2.0
PRODID:-//eventon.com NONSGML v1.0//EN
CALSCALE:GREGORIAN
METHOD:PUBLISH
BEGIN:VEVENT
UID:69e7270480e2a
DTSTAMP:20260421T072804Z
DTSTART:20230618T070000Z
DTEND:20230618T200000Z
LOCATION:Polideportivo de La Luz
SUMMARY:Campeonato de gimnasia rítmica
DESCRIPTION:Jornada para el Campeonato de Gimnasia Rítmica de Tres Cantos 
 donde más de 300 gimnastas darán a conocer sus diferentes habilidades en 
 cada una de las categorías.\nhttps://360y5.es/events/campeonato-de-gimnasi
 a-ritmica/
URL:https://360y5.es/events/campeonato-de-gimnasia-ritmica/
END:VEVENT
END:VCALENDAR