BEGIN:VCALENDAR
VERSION:2.0
PRODID:-//eventon.com NONSGML v1.0//EN
CALSCALE:GREGORIAN
METHOD:PUBLISH
BEGIN:VEVENT
UID:69e7244a13e92
DTSTAMP:20260421T071626Z
DTSTART:20230621T070000Z
DTEND:20230621T120000Z
LOCATION:
SUMMARY:Torneo internacional Ground Golf
DESCRIPTION:Campo de fútbol de Foresta. Con motivo de las Fiestas Patronal
 es\,  Tres Cantos acogerá el Torneo Internacional de Ground Golf\,  cuya p
 articipación rondará los 150 deportistas procedentes de las diferentes as
 ociaciones de la Comunidad de Madrid.\nhttps://360y5.es/events/torneo-inter
 nacional-ground-golf/
URL:https://360y5.es/events/torneo-internacional-ground-golf/
END:VEVENT
END:VCALENDAR