BEGIN:VCALENDAR
VERSION:2.0
PRODID:-//eventon.com NONSGML v1.0//EN
CALSCALE:GREGORIAN
METHOD:PUBLISH
BEGIN:VEVENT
UID:69e726b8a2fe4
DTSTAMP:20260421T072648Z
DTSTART:20230622
DTEND:20230623
LOCATION:
SUMMARY:XIII Open internacional de Ajedrez Ciudad de Tres Cantos
DESCRIPTION:Espacio Enrique Mas. De 18 a 22 horas. Uno de los Open de Ajedr
 ez más importante de la Comunidad de Madrid con la participación de grand
 es maestros de esta disciplina. Información e inscripciones: inscripcione
 s@ajedreztrescantos.com\nhttps://360y5.es/events/xiii-open-internacional-de
 -ajedrez-ciudad-de-tres-cantos/
URL:https://360y5.es/events/xiii-open-internacional-de-ajedrez-ciudad-de-tres-cantos/
END:VEVENT
END:VCALENDAR