BEGIN:VCALENDAR
VERSION:2.0
PRODID:-//eventon.com NONSGML v1.0//EN
CALSCALE:GREGORIAN
METHOD:PUBLISH
BEGIN:VEVENT
UID:69e6e3075b207
DTSTAMP:20260421T023759Z
DTSTART:20230623
DTEND:20230624
LOCATION:
SUMMARY:Campeonato de España Fem-15 hockey patines
DESCRIPTION:De 9 a 21 horas. El Pabellón de Patinaje del CD Laura Oter aco
 gerá por primera vez un Campeonato de España Femenino sub-15 de Hockey Pa
 tines.\nhttps://360y5.es/events/campeonato-de-espana-fem-15-hockey-patines/
URL:https://360y5.es/events/campeonato-de-espana-fem-15-hockey-patines/
END:VEVENT
END:VCALENDAR