BEGIN:VCALENDAR
VERSION:2.0
PRODID:-//eventon.com NONSGML v1.0//EN
CALSCALE:GREGORIAN
METHOD:PUBLISH
BEGIN:VEVENT
UID:69e6e3d2dc5d3
DTSTAMP:20260421T024122Z
DTSTART:20230626
DTEND:20230627
LOCATION:Campos de fútbol Foresta Avenida de la Vega\,  s/n\,  Tres Cantos\,  Madrid
SUMMARY:XXXI Torneo alevín waterpolo
DESCRIPTION:De 17 a 20 horas. Con motivo de las Fiestas Mayores de Tres Can
 tos se disputará la 31ª Edición del Torneo de Waterpolo de categoría al
 evín\,  donde se enfrentarán los mejores clasificados de la temporada.\nh
 ttps://360y5.es/events/xxxi-torneo-alevin-waterpolo/
URL:https://360y5.es/events/xxxi-torneo-alevin-waterpolo/
END:VEVENT
END:VCALENDAR