BEGIN:VCALENDAR
VERSION:2.0
PRODID:-//eventon.com NONSGML v1.0//EN
CALSCALE:GREGORIAN
METHOD:PUBLISH
BEGIN:VEVENT
UID:69e70d444c8bb
DTSTAMP:20260421T053812Z
DTSTART:20230622T200000Z
DTEND:20230623T030000Z
LOCATION:
SUMMARY:Escenario Joven
DESCRIPTION:22:00 h. &#8211; Perro Hueso (Hard Rock)23:00 h. &#8211; El Suc
 io (Rock Alternativo)00:00 h. &#8211; Warm Up a cargo de HARD TIMES CREW01:
 00 h. &#8211; SOFIA CRISTO02:30 h. &#8211; HARD TIMES CREW17SINS + DREY + G
 NX b2b TXME05:00 h. &#8211; Fin actuaciones\nhttps://360y5.es/events/escena
 rio-joven/
URL:https://360y5.es/events/escenario-joven/
END:VEVENT
END:VCALENDAR