BEGIN:VCALENDAR
VERSION:2.0
PRODID:-//eventon.com NONSGML v1.0//EN
CALSCALE:GREGORIAN
METHOD:PUBLISH
BEGIN:VEVENT
UID:69e6f8d743cb3
DTSTAMP:20260421T041103Z
DTSTART:20230624T183000Z
DTEND:20230624T193000Z
LOCATION:
SUMMARY:VIII Festival Circalle3C: Menú2
DESCRIPTION:Plaza de Antonio Gala. Malabares\,  acrobacias y mucho humor. C
 ompañía: Circódromo\nhttps://360y5.es/events/viii-festival-circalle3c-me
 nu2/
URL:https://360y5.es/events/viii-festival-circalle3c-menu2/
END:VEVENT
END:VCALENDAR