BEGIN:VCALENDAR
VERSION:2.0
PRODID:-//eventon.com NONSGML v1.0//EN
CALSCALE:GREGORIAN
METHOD:PUBLISH
BEGIN:VEVENT
UID:69e69ce604466
DTSTAMP:20260420T213846Z
DTSTART:20230716T203000Z
DTEND:20230716T215500Z
LOCATION:Plaza de la Familia Parque Central\,  Plaza de la Familia\,  s/n
SUMMARY:Cine de verano: Héroes de barrio
DESCRIPTION:Plaza de la Familia. Paula es una niña que juega en un equipo 
 de fútbol infantil femenino y pide a su padre\,  Luís\,  que le traiga a 
 final de temporada al jugador del Betis Joaquín\,  de quién éste finge s
 er un buen amigo.\nhttps://360y5.es/events/cine-de-verano-heroes-de-barrio/
URL:https://360y5.es/events/cine-de-verano-heroes-de-barrio/
END:VEVENT
END:VCALENDAR