BEGIN:VCALENDAR
VERSION:2.0
PRODID:-//eventon.com NONSGML v1.0//EN
CALSCALE:GREGORIAN
METHOD:PUBLISH
BEGIN:VEVENT
UID:69e69d3c2b5d7
DTSTAMP:20260420T214012Z
DTSTART:20230723T203000Z
DTEND:20230723T215500Z
LOCATION:Plaza de la Familia Parque Central\,  Plaza de la Familia\,  s/n
SUMMARY:Cine de verano: Club de padres
DESCRIPTION:Plaza de la Familia. Vincent\,  un treintañero sin hijos\,  se
  infiltra en un grupo con unos códigos y un lenguaje misteriosos: los padr
 es de los alumnos. Acudir a sus reuniones\,  a viajes escolares y a la fies
 ta de fin de año serán sus hazañas.\nhttps://360y5.es/events/cine-de-ver
 ano-club-de-padres/
URL:https://360y5.es/events/cine-de-verano-club-de-padres/
END:VEVENT
END:VCALENDAR