BEGIN:VCALENDAR
VERSION:2.0
PRODID:-//eventon.com NONSGML v1.0//EN
CALSCALE:GREGORIAN
METHOD:PUBLISH
BEGIN:VEVENT
UID:69e69d606cadb
DTSTAMP:20260420T214048Z
DTSTART:20230730T203000Z
DTEND:20230730T215500Z
LOCATION:Plaza de la Familia Parque Central\,  Plaza de la Familia\,  s/n
SUMMARY:Cine de verano: Encanto
DESCRIPTION:Plaza de la Familia. En lo alto de las montañas de Colombia ha
 y un lugar encantado llamado Encanto. Aquí\,  en una casa mágica\,  vive 
 la extraordinaria familia Madrigal donde todos tienen habilidades fantásti
 cas.\nhttps://360y5.es/events/cine-de-verano-encanto/
URL:https://360y5.es/events/cine-de-verano-encanto/
END:VEVENT
END:VCALENDAR