BEGIN:VCALENDAR
VERSION:2.0
PRODID:-//eventon.com NONSGML v1.0//EN
CALSCALE:GREGORIAN
METHOD:PUBLISH
BEGIN:VEVENT
UID:69e69d85cc1b9
DTSTAMP:20260420T214125Z
DTSTART:20230714T200000Z
DTEND:20230714T213000Z
LOCATION:Lago del Parque Central
SUMMARY:Veladas en el lago: 500 noches
DESCRIPTION:En el lago del Parque Central. Con su espectáculo ‘Sabina en
  las venas’ 500 noches rinde homenaje al maestro Joaquín Sabina en un re
 corrido por las canciones que han marcado su trayectoria musical. Un tribut
 o que es mucho más que un concierto y más que un recital\,  en el que[..]
 \nhttps://360y5.es/events/veladas-en-el-lago-500-noches/
URL:https://360y5.es/events/veladas-en-el-lago-500-noches/
END:VEVENT
END:VCALENDAR