BEGIN:VCALENDAR
VERSION:2.0
PRODID:-//eventon.com NONSGML v1.0//EN
CALSCALE:GREGORIAN
METHOD:PUBLISH
BEGIN:VEVENT
UID:69e69d42481a0
DTSTAMP:20260420T214018Z
DTSTART:20230721T200000Z
DTEND:20230721T213000Z
LOCATION:Lago del Parque Central
SUMMARY:Veladas en el lago: Siempre así
DESCRIPTION:En el lago del Parque Central. La rumba con mensaje\,  alegre y
  sureña\,  llega a Tres Cantos para celebrar los 30 años de existencia de
  este grupo que se ha hechoimprescindible en cualquier reunión o evento fe
 stivo. Con 16 discos en el mercado y alrededor de un millón de copias[..]\
 nhttps://360y5.es/events/veladas-en-el-lago-siempre-asi/
URL:https://360y5.es/events/veladas-en-el-lago-siempre-asi/
END:VEVENT
END:VCALENDAR