BEGIN:VCALENDAR
VERSION:2.0
PRODID:-//eventon.com NONSGML v1.0//EN
CALSCALE:GREGORIAN
METHOD:PUBLISH
BEGIN:VEVENT
UID:69e69d0e93b73
DTSTAMP:20260420T213926Z
DTSTART:20230715T200000Z
DTEND:20230715T213000Z
LOCATION:Lago del Parque Central
SUMMARY:Veladas en el lago: Modestia Aparte y el Pulpo
DESCRIPTION:En el lago del Parque Central. La icónica banda “Modestia Ap
 arte” nos visita en los ya tradicionales conciertos de “Veladas en el L
 ago”. Temas de la adolescencia de los años 80 y 90 conocidos por todos c
 omo Cosas de la edad\,  Cómo te mueves o\,  Es por tu Amor. “Modestia[..
 ]\nhttps://360y5.es/events/veladas-en-el-lago-modestia-aparte-y-el-pulpo/
URL:https://360y5.es/events/veladas-en-el-lago-modestia-aparte-y-el-pulpo/
END:VEVENT
END:VCALENDAR