BEGIN:VCALENDAR
VERSION:2.0
PRODID:-//eventon.com NONSGML v1.0//EN
CALSCALE:GREGORIAN
METHOD:PUBLISH
BEGIN:VEVENT
UID:69e69ceb70ec1
DTSTAMP:20260420T213851Z
DTSTART:20230722T200000Z
DTEND:20230722T213000Z
LOCATION:Lago del Parque Central
SUMMARY:Veladas en el lago: El Consorcio
DESCRIPTION:En el lago del Parque Central. Para hablar de El Consorcio es i
 nevitable remitirse a Mocedades\,  ya que todos sus integrantes pertenecier
 on a ese grupo. Ellos son la única formación hispana que ha vendido más 
 de un millón de copias de un sencillo cantado íntegramente en castellano.
  El Consorcio\,  formado[..]\nhttps://360y5.es/events/veladas-en-el-lago-el
 -consorcio/
URL:https://360y5.es/events/veladas-en-el-lago-el-consorcio/
END:VEVENT
END:VCALENDAR