BEGIN:VCALENDAR
VERSION:2.0
PRODID:-//eventon.com NONSGML v1.0//EN
CALSCALE:GREGORIAN
METHOD:PUBLISH
BEGIN:VEVENT
UID:69e6820cf2fca
DTSTAMP:20260420T194412Z
DTSTART:20230720T160000Z
DTEND:20230720T164500Z
LOCATION:Biblioteca municipal FundaciÃ³n Caja Madrid
SUMMARY:La hora de los cuentos: Un mundo de cuentos
DESCRIPTION:CUENTACUENTOS: Alicia Cuenteando Â¡QuÃ© gran aventura! Alicia Â
 «la AviadoraÂ» viaja con su aeroplano recorriendo el mundo. Desde el Polo N
 orte hasta la sabana africana\,  en cada una de sus paradas se encontrarÃ¡ 
 con curiosos personajes: niÃ±os y niÃ±as de otras culturas y animales de ot
 ras tierras que le mostrarÃ¡n cÃ³mo[..]\nhttps://360y5.es/events/la-hora-de
 -los-cuentos-un-mundo-de-cuentos-2/
URL:https://360y5.es/events/la-hora-de-los-cuentos-un-mundo-de-cuentos-2/
END:VEVENT
END:VCALENDAR