BEGIN:VCALENDAR
VERSION:2.0
PRODID:-//eventon.com NONSGML v1.0//EN
CALSCALE:GREGORIAN
METHOD:PUBLISH
BEGIN:VEVENT
UID:69e6723b89cc7
DTSTAMP:20260420T183643Z
DTSTART:20230919T160000Z
DTEND:20230919T164500Z
LOCATION:Biblioteca municipal Fundación Caja Madrid
SUMMARY:Story time: Busy Bee
DESCRIPTION:CUENTACUENTOS: Face2Face Busy Bee es una simpática abeja que e
 stá muy ocupada… ¡haciendo miel para su reina! Ven a su jardín y únet
 e a sus aventuras\,  con canciones\,  baile y hasta unas palabras mágicas.
  Pero ten cuidado… ¡hay un oso goloso al acecho! Duración: 45 minutos E
 dad recomendada:a partir de[..]\nhttps://360y5.es/events/story-time-busy-be
 e-6/
URL:https://360y5.es/events/story-time-busy-bee-6/
END:VEVENT
END:VCALENDAR