BEGIN:VCALENDAR
VERSION:2.0
PRODID:-//eventon.com NONSGML v1.0//EN
CALSCALE:GREGORIAN
METHOD:PUBLISH
BEGIN:VEVENT
UID:69e671fd599b4
DTSTAMP:20260420T183541Z
DTSTART:20230921T070000Z
DTEND:20231011T190000Z
LOCATION:Biblioteca Municipal Lope de Vega
SUMMARY:Exposición: El poder de Heka
DESCRIPTION:ORGANIZA: Subdirección General del Libro (Comunidad de Madrid)
  El antiguo Egipto ejerce sobre nosotros un fuerte magnetismo\,  una magia 
 que es capaz de cautivarnos a todas las edades. Fuente inagotable de inspir
 ación\,  El poder de Heka es un libro que continúa esta tradición y pret
 ende mantenerla latente en las nuevas[..]\nhttps://360y5.es/events/exposici
 on-el-poder-de-heka/
URL:https://360y5.es/events/exposicion-el-poder-de-heka/
END:VEVENT
END:VCALENDAR