BEGIN:VCALENDAR
VERSION:2.0
PRODID:-//eventon.com NONSGML v1.0//EN
CALSCALE:GREGORIAN
METHOD:PUBLISH
BEGIN:VEVENT
UID:69e67222309b1
DTSTAMP:20260420T183618Z
DTSTART:20230921T160000Z
DTEND:20230921T172000Z
LOCATION:Biblioteca Municipal Lope de Vega
SUMMARY:Taller de ilustración: El misterio de la pirámide
DESCRIPTION:A cargo de: María Espejo La actividad se iniciará con una pre
 sentación y una visita guiada a la exposición donde se introducirá a los
  participantes en los mitos egipcios\,  haciendo especial hincapié en los 
 mitos de la creación\,  en los que se centrará el taller. Los asistentes 
 realizarán ilustraciones con[..]\nhttps://360y5.es/events/taller-de-ilustr
 acion-el-misterio-de-la-piramide/
URL:https://360y5.es/events/taller-de-ilustracion-el-misterio-de-la-piramide/
END:VEVENT
END:VCALENDAR