BEGIN:VCALENDAR
VERSION:2.0
PRODID:-//eventon.com NONSGML v1.0//EN
CALSCALE:GREGORIAN
METHOD:PUBLISH
BEGIN:VEVENT
UID:69e672223328c
DTSTAMP:20260420T183618Z
DTSTART:20230928T170000Z
DTEND:20230928T180000Z
LOCATION:Biblioteca Municipal Lope de Vega
SUMMARY:Presentación literaria: "Dimensión Zero” y la “La ballena mágica”
DESCRIPTION:Dimensión Zero es una novela negra / policíaca que ganó el P
 remio de Narrativa Camilo José Cela en 2019. Carolina Padrón lleva una se
 mana sin acudir a su puesto de trabajo. Su jefa no consigue localizarla y d
 ecide ir a la comisaría de Vigo\,  ciudad en la que viven\,  para[..]\nhtt
 ps://360y5.es/events/presentacion-literaria-dimension-zero-y-la-la-ballena-
 magica/
URL:https://360y5.es/events/presentacion-literaria-dimension-zero-y-la-la-ballena-magica/
END:VEVENT
END:VCALENDAR