BEGIN:VCALENDAR
VERSION:2.0
PRODID:-//eventon.com NONSGML v1.0//EN
CALSCALE:GREGORIAN
METHOD:PUBLISH
BEGIN:VEVENT
UID:69e645de089ad
DTSTAMP:20260420T152726Z
DTSTART:20230923T180000Z
DTEND:20230923T193000Z
LOCATION:Teatro Municipal de Tres Cantos
SUMMARY:Día de Asturias: Actuación de Pipo Prendes
DESCRIPTION:Organiza: Centro Asturiano de Tres Cantos “Aires de Asturias
  Pipo Prendes nos trae un espectáculo sentido y sensible con un repertor
 io de canciones propias\,  salpicadas con temas de siempre (como él suele 
 matizar\,  “intemporales”)\,  de los que dejan un poso agradable en el 
 público. El sello que tiene la obra[..]\nhttps://360y5.es/events/dia-de-as
 turias-actuacion-de-pipo-prendes/
URL:https://360y5.es/events/dia-de-asturias-actuacion-de-pipo-prendes/
END:VEVENT
END:VCALENDAR