BEGIN:VCALENDAR
VERSION:2.0
PRODID:-//eventon.com NONSGML v1.0//EN
CALSCALE:GREGORIAN
METHOD:PUBLISH
BEGIN:VEVENT
UID:69e631d7b1baa
DTSTAMP:20260420T140159Z
DTSTART:20230924T160000Z
DTEND:20230924T173000Z
LOCATION:Teatro Municipal de Tres Cantos
SUMMARY:Espectáculo familiar: Pinocho\,  el musical
DESCRIPTION:Compañía: CANDILEJA Producciones. El cuento de hadas más fam
 oso de todos los tiempos cobra vida con una banda sonora original\,  un ele
 nco “diferente” e inspirador y un mensaje que conmoverá a niños y may
 ores.CANDILEJA producciones ofrece una nueva perspectiva del clásico de Co
 llodi al incorporar a un actor con síndrome[..]\nhttps://360y5.es/events/e
 spectaculo-familiar-pinocho-el-musical/
URL:https://360y5.es/events/espectaculo-familiar-pinocho-el-musical/
END:VEVENT
END:VCALENDAR