BEGIN:VCALENDAR
VERSION:2.0
PRODID:-//eventon.com NONSGML v1.0//EN
CALSCALE:GREGORIAN
METHOD:PUBLISH
BEGIN:VEVENT
UID:69e632c2ce1e4
DTSTAMP:20260420T140554Z
DTSTART:20230930T170000Z
DTEND:20230930T183000Z
LOCATION:Teatro Municipal de Tres Cantos
SUMMARY:Día de Extremadura: El amor brujo
DESCRIPTION:Celebración de los actos en torno al Día de Extremadura en Tr
 es Cantos: “El amor brujo” (basada en la obra de Manuel de Falla) Grupo
  ALMORAIMA\,  de Parla. Dirección y coreografía: Antonio Rivera. Organiza
 : Casa de Extremadura en Tres Cantos Entrada: 2 euros. Venta de entradas: e
 n horario habitual de taquilla y[..]\nhttps://360y5.es/events/dia-de-extr
 emadura-el-amor-brujo/
URL:https://360y5.es/events/dia-de-extremadura-el-amor-brujo/
END:VEVENT
END:VCALENDAR