BEGIN:VCALENDAR
VERSION:2.0
PRODID:-//eventon.com NONSGML v1.0//EN
CALSCALE:GREGORIAN
METHOD:PUBLISH
BEGIN:VEVENT
UID:69e6313684b22
DTSTAMP:20260420T135918Z
DTSTART:20231001T170000Z
DTEND:20231001T183000Z
LOCATION:Auditorio municipal
SUMMARY:Declamación poética sobre poesía extremeña
DESCRIPTION:Grupo Platero. Poemas de los literatos extremeños José María
  Gabriel y Galán y Luis Chamizo. Las declamaciones serán acompañadas por
  jotas extremeñas a cargo del Grupo Folk “Cantos de Extremadura” Organ
 iza: Casa de Extremadura en Tres Cantos Entrada: Gratuita (recoger una hora
  antes de la actuación).\nhttps://360y5.es/events/declamacion-poetica-sobr
 e-poesia-extremena/
URL:https://360y5.es/events/declamacion-poetica-sobre-poesia-extremena/
END:VEVENT
END:VCALENDAR