BEGIN:VCALENDAR
VERSION:2.0
PRODID:-//eventon.com NONSGML v1.0//EN
CALSCALE:GREGORIAN
METHOD:PUBLISH
BEGIN:VEVENT
UID:69e632f536403
DTSTAMP:20260420T140645Z
DTSTART:20231001T180000Z
DTEND:20231001T193000Z
LOCATION:Teatro Municipal de Tres Cantos
SUMMARY:Teatro: La comedia de los errores
DESCRIPTION:CompaÃ±Ã­a: MIXTOLOBO Reparto: PepÃ³n Nieto\,  Antonio Pagudo\,
   Fernando Soto\,  Rulo Pardo\,  Avelino Piedad\,  Esteban Garrido DirecciÃ
 ³n: AndrÃ©s Lima Estamos en Ã‰feso\,  ciudad llena de fulleros\,  de magos 
 capaces de engaÃ±ar el ojo\,  de oscuros hechiceros que trastornan el juici
 o\,  de brujas asesinas que deforman el cuerpo\,  de truhanes disfrazados d
 e[..]\nhttps://360y5.es/events/teatro-la-comedia-de-los-errores/
URL:https://360y5.es/events/teatro-la-comedia-de-los-errores/
END:VEVENT
END:VCALENDAR