BEGIN:VCALENDAR
VERSION:2.0
PRODID:-//eventon.com NONSGML v1.0//EN
CALSCALE:GREGORIAN
METHOD:PUBLISH
BEGIN:VEVENT
UID:69e63310e2c1b
DTSTAMP:20260420T140712Z
DTSTART:20230908T070000Z
DTEND:20230924T190000Z
LOCATION:Centro Cultural Adolfo Suárez
SUMMARY:Exposición F22: Fotografías finalistas y premiadas
DESCRIPTION:En la Sala Pedro Navares. Exposición en la que se exhiben las 
 fotografías finalistas y premiadas en el concurso que organiza anualmente 
 la Asociación de Fotografía f22\,  en colaboración con el Ayuntamiento d
 e Tres Cantos. Las mejores fotografías de cada una de las tres categorías
  del concurso: Naturaleza\,  Viajes y[..]\nhttps://360y5.es/events/exposici
 on-f22-fotografias-finalistas-y-premiadas/
URL:https://360y5.es/events/exposicion-f22-fotografias-finalistas-y-premiadas/
END:VEVENT
END:VCALENDAR