BEGIN:VCALENDAR
VERSION:2.0
PRODID:-//eventon.com NONSGML v1.0//EN
CALSCALE:GREGORIAN
METHOD:PUBLISH
BEGIN:VEVENT
UID:69e633f27c3f2
DTSTAMP:20260420T141058Z
DTSTART:20230908T070000Z
DTEND:20230924T190000Z
LOCATION:Centro Cultural Adolfo Suárez
SUMMARY:Exposición Asociación de Artistas y Artesanos de Tres Cantos ART3C: Diversidad creativa
DESCRIPTION:En la Sala Van Drell. Los más destacados trabajos de esta entu
 siasta asociación local en una exposición colectiva\,  atractiva y plural
 . Inauguración: viernes 8 de septiembre\,  19 horas.\nhttps://360y5.es/eve
 nts/exposicion-asociacion-de-artistas-y-artesanos-de-tres-cantos-art3c-dive
 rsidad-creativa/
URL:https://360y5.es/events/exposicion-asociacion-de-artistas-y-artesanos-de-tres-cantos-art3c-diversidad-creativa/
END:VEVENT
END:VCALENDAR