BEGIN:VCALENDAR
VERSION:2.0
PRODID:-//eventon.com NONSGML v1.0//EN
CALSCALE:GREGORIAN
METHOD:PUBLISH
BEGIN:VEVENT
UID:69e632fb75ccc
DTSTAMP:20260420T140651Z
DTSTART:20230908T070000Z
DTEND:20230924T190000Z
LOCATION:Centro Cultural Adolfo Suárez
SUMMARY:Exposición Asociación de Pintores de Tres Cantos: Nuevas obras
DESCRIPTION:En la Sala Gutiérrez Montiel. Nueva y sugerente cita en una sa
 la de exposiciones en la que se exhiben las últimas creaciones de todos lo
 s artistas que componen esta asociación. Diversidad de estilos y propuesta
 s. Inauguración: viernes 8 de septiembre\,  19 horas.\nhttps://360y5.es/ev
 ents/exposicion-asociacion-de-pintores-de-tres-cantos-nuevas-obras/
URL:https://360y5.es/events/exposicion-asociacion-de-pintores-de-tres-cantos-nuevas-obras/
END:VEVENT
END:VCALENDAR