BEGIN:VCALENDAR
VERSION:2.0
PRODID:-//eventon.com NONSGML v1.0//EN
CALSCALE:GREGORIAN
METHOD:PUBLISH
BEGIN:VEVENT
UID:69e632394f55a
DTSTAMP:20260420T140337Z
DTSTART:20230929T070000Z
DTEND:20231015T190000Z
LOCATION:Centro Cultural Adolfo Suárez
SUMMARY:Exposición: Naturaleza y entorno
DESCRIPTION:En la Sala Pedro Navares. Artista: Sagrario López Amador Los o
 bras a exponer\,  como bien reza el título\,  tratan de la Naturaleza y el
  Entorno que me rodea: Naturaleza de paisajes situados en la sierra de Guad
 arrama mayoritariamente y el entorno de pueblos situados en La Mancha que m
 e vio[..]\nhttps://360y5.es/events/exposicion-naturaleza-y-entorno/
URL:https://360y5.es/events/exposicion-naturaleza-y-entorno/
END:VEVENT
END:VCALENDAR