BEGIN:VCALENDAR
VERSION:2.0
PRODID:-//eventon.com NONSGML v1.0//EN
CALSCALE:GREGORIAN
METHOD:PUBLISH
BEGIN:VEVENT
UID:69e6321e2a9e4
DTSTAMP:20260420T140310Z
DTSTART:20230929T070000Z
DTEND:20231015T180000Z
LOCATION:Centro Cultural Adolfo Suárez
SUMMARY:Exposición: No solo musas
DESCRIPTION:En la Sala Van Drell. Red ITINER de la Comunidad de Madrid. Mar
 ie Laurencin\,  Françoise Gilot y Sonia Delaunay son tres artistas fundame
 ntales del siglo XX. Encomiadas por los grandes creadores e intelectuales d
 e su momento\,  sufrieron obstáculos por sermujeres\,  que dificultaron su
  triunfo como artistas. También se les ha[..]\nhttps://360y5.es/events/exp
 osicion-no-solo-musas/
URL:https://360y5.es/events/exposicion-no-solo-musas/
END:VEVENT
END:VCALENDAR