BEGIN:VCALENDAR
VERSION:2.0
PRODID:-//eventon.com NONSGML v1.0//EN
CALSCALE:GREGORIAN
METHOD:PUBLISH
BEGIN:VEVENT
UID:69e6339225fbf
DTSTAMP:20260420T140922Z
DTSTART:20230929T070000Z
DTEND:20231015T190000Z
LOCATION:Centro Cultural Adolfo Suárez
SUMMARY:Exposición colectiva: Amor a la línea
DESCRIPTION:En la Sala Gutiérrez Montiel Amor a la línea está inspirado 
 en “Cántico”\,  de Jorge Guillén; de hecho\,  el título está tomado
  de uno de sus versos. La exposición no trata de ilustrar el poemario de G
 uillén\,  ni tan siquiera toda la Geometría que navega en sus páginas. E
 n “Cántico”\, [..]\nhttps://360y5.es/events/exposicion-colectiva-amor-
 a-la-linea/
URL:https://360y5.es/events/exposicion-colectiva-amor-a-la-linea/
END:VEVENT
END:VCALENDAR