BEGIN:VCALENDAR
VERSION:2.0
PRODID:-//eventon.com NONSGML v1.0//EN
CALSCALE:GREGORIAN
METHOD:PUBLISH
BEGIN:VEVENT
UID:69e5f6c32269a
DTSTAMP:20260420T094955Z
DTSTART:20231031T163000Z
DTEND:20231031T200000Z
LOCATION:Polideportivo de La Luz
SUMMARY:Peque Halloween
DESCRIPTION:Talleres\,  hinchables y juegos.\nhttps://360y5.es/events/peque
 -halloween-2/
URL:https://360y5.es/events/peque-halloween-2/
END:VEVENT
END:VCALENDAR