BEGIN:VCALENDAR
VERSION:2.0
PRODID:-//eventon.com NONSGML v1.0//EN
CALSCALE:GREGORIAN
METHOD:PUBLISH
BEGIN:VEVENT
UID:69ececef24bf0
DTSTAMP:20260425T163351Z
DTSTART:20231208
DTEND:20231209
LOCATION:Plaza del Ayuntamiento
SUMMARY:Tren de la Navidad
DESCRIPTION:Horarios: Días 9\,  10\,  16\,  17\,  23\,  26\,  27\,  28\,  
 29\,  30 de diciembre y 2\,  3\,  4 y 7 de enero: de 11:30 a 14:30 y de 17:
 00 a 21:00 horas Días 8\,  15 y 22 de diciembre y 1 y 6 de enero: de 17:00
  a 21:00 horas\nhttps://360y5.es/events/tren-de-la-navidad/
URL:https://360y5.es/events/tren-de-la-navidad/
END:VEVENT
END:VCALENDAR