BEGIN:VCALENDAR
VERSION:2.0
PRODID:-//eventon.com NONSGML v1.0//EN
CALSCALE:GREGORIAN
METHOD:PUBLISH
BEGIN:VEVENT
UID:69e52f5a23179
DTSTAMP:20260419T193906Z
DTSTART:20240313
DTEND:20240314
LOCATION:Factoría Cultural
SUMMARY:Exposición: La luz como compañera de viaje
DESCRIPTION:Blanca Arribas\,  jovencísima pintora e ilustradora tricantina
  y creadora de fanzines\,  nos muestra su mirada en la que invita a sumergi
 rnos en nuestro municipio con una oleada de ilustraciones vívidas y atrevi
 das. Con ilustraciones que se caracterizan por una gran fuerza pictórica\,
   esta exposición se acompaña de una nueva línea[..]\nhttps://360y5.es/e
 vents/exposicion-la-luz-como-companera-de-viaje/
URL:https://360y5.es/events/exposicion-la-luz-como-companera-de-viaje/
END:VEVENT
END:VCALENDAR