BEGIN:VCALENDAR
VERSION:2.0
PRODID:-//eventon.com NONSGML v1.0//EN
CALSCALE:GREGORIAN
METHOD:PUBLISH
BEGIN:VEVENT
UID:69e7a838cf4b6
DTSTAMP:20260421T163920Z
DTSTART:20240426T180000Z
DTEND:20240426T193000Z
LOCATION:
SUMMARY:Propuesta cultural: Forever Van Gogh
DESCRIPTION:En el mes de abril os proponemos que conozcáis más al gran ge
 nio que fue Van Gogh a través de esta experiencia que une el teatro con la
  tecnología. Es la obra teatral envolvente de un genio\,  un espectáculo 
 sobre la vida del reconocido pintor Vincent van Gogh a través[..]\nhttps:/
 /360y5.es/events/propuesta-cultural-forever-van-gogh/
URL:https://360y5.es/events/propuesta-cultural-forever-van-gogh/
END:VEVENT
END:VCALENDAR