BEGIN:VCALENDAR
VERSION:2.0
PRODID:-//eventon.com NONSGML v1.0//EN
CALSCALE:GREGORIAN
METHOD:PUBLISH
BEGIN:VEVENT
UID:69e7a89c42b46
DTSTAMP:20260421T164100Z
DTSTART:20240517T190000Z
DTEND:20240517T200000Z
LOCATION:Sector Embarcaciones
SUMMARY:Festival IN&OUT Jazz: Slide
DESCRIPTION:Plaza del Sector Embarcaciones. Recibiremos a SLIDE\,  la banda
  Funk y Soul revelación de la temporada. Grandes virtuosos de su instrumen
 to\,  dirigidos por el guitarristas Chuma Segura\,  con la colaboración de
  uno de los más grandes percusionistas del panorama internacional\,  Jorge
  Pérez “Patax”. Su repertorio reúne una selección de temas[..]\nhttp
 s://360y5.es/events/festival-inout-jazz/
URL:https://360y5.es/events/festival-inout-jazz/
END:VEVENT
END:VCALENDAR