BEGIN:VCALENDAR
VERSION:2.0
PRODID:-//eventon.com NONSGML v1.0//EN
CALSCALE:GREGORIAN
METHOD:PUBLISH
BEGIN:VEVENT
UID:69e54432efd5a
DTSTAMP:20260419T210802Z
DTSTART:20240518T190000Z
DTEND:20240518T200000Z
LOCATION:Sector Oficios
SUMMARY:Festival IN&OUT Jazz: Viki Lafuente & The Banned
DESCRIPTION:Plaza del Sector Oficios. VIKI LAFUENTE &amp; THE BANNED nos pr
 esenta un viaje musical en un extraordinario concierto que nos llevará a t
 ravés de la música clásica negra revolucionaria americana\,  desde los a
 ños 30´ a los años 70´. Temas muy conocidos por el gran público de Bil
 lie Holiday\,  James Brown\, [..]\nhttps://360y5.es/events/festival-inout-j
 azz-viki-lafuente-the-banned/
URL:https://360y5.es/events/festival-inout-jazz-viki-lafuente-the-banned/
END:VEVENT
END:VCALENDAR