BEGIN:VCALENDAR
VERSION:2.0
PRODID:-//eventon.com NONSGML v1.0//EN
CALSCALE:GREGORIAN
METHOD:PUBLISH
BEGIN:VEVENT
UID:69e544a136c5c
DTSTAMP:20260419T210953Z
DTSTART:20240525T180000Z
DTEND:20240525T193000Z
LOCATION:Teatro Municipal de Tres Cantos
SUMMARY:Festival IN&OUT Jazz: Dorantes
DESCRIPTION:Concierto: “DORANTES &#8211; El Tiempo por Testigo” La noch
 e del sábado 25\,  en el Teatro Municipal de Tres Cantos\,  tendremos la o
 portunidad de escuchar a DORANTES\,  uno de los pianistas y compositores m
 s importantes de la música española\,  el flamenco y su fusión con el j
 azz. Capaz de amalgamar los[..]\nhttps://360y5.es/events/festival-inout-jaz
 z-dorantes/
URL:https://360y5.es/events/festival-inout-jazz-dorantes/
END:VEVENT
END:VCALENDAR