BEGIN:VCALENDAR
VERSION:2.0
PRODID:-//eventon.com NONSGML v1.0//EN
CALSCALE:GREGORIAN
METHOD:PUBLISH
BEGIN:VEVENT
UID:69e54412e49c7
DTSTAMP:20260419T210730Z
DTSTART:20240526T180000Z
DTEND:20240526T073000Z
LOCATION:Teatro Municipal de Tres Cantos
SUMMARY:Teatro: Animales de compañía
DESCRIPTION:Compañía: PRODUCCIONES OFF Red de Teatros de la Comunidad de 
 Madrid Autora: Estel Solé Elenco: Mónica Regueiro\,  Laura Galán\,  Jorg
 e Suquet\,  Iñaki Ardanaz\,  Silvia Marty\,  Nacho López. Director: Fele 
 Martínez Se trata de una obra que viaja de forma magistral entre una ágil
  y fresca comedia y un thriller. La[..]\nhttps://360y5.es/events/teatro-ani
 males-de-compania/
URL:https://360y5.es/events/teatro-animales-de-compania/
END:VEVENT
END:VCALENDAR