BEGIN:VCALENDAR
VERSION:2.0
PRODID:-//eventon.com NONSGML v1.0//EN
CALSCALE:GREGORIAN
METHOD:PUBLISH
BEGIN:VEVENT
UID:69e5449ae6f47
DTSTAMP:20260419T210946Z
DTSTART:20240526T083000Z
DTEND:20240526T110000Z
LOCATION:Aula de Medio Ambiente Las Vaquerizas
SUMMARY:Taller familiar de ecosferas
DESCRIPTION:Construye un ecosistema en miniatura para decorar tu casa en la
  que aprender sobre los ecosistemas y las interacciones entre sus habitante
 s. Pondremos todos los materiales. A partir de 4 años. Inscripciones: Cump
 limentando este formulario o enviando un correo electrónico a aulamedioamb
 iente@trescantos.es indicando número de participantes\,  edad de los menor
 es\, [..]\nhttps://360y5.es/events/taller-familiar-de-ecosferas/
URL:https://360y5.es/events/taller-familiar-de-ecosferas/
END:VEVENT
END:VCALENDAR