BEGIN:VCALENDAR
VERSION:2.0
PRODID:-//eventon.com NONSGML v1.0//EN
CALSCALE:GREGORIAN
METHOD:PUBLISH
BEGIN:VEVENT
UID:69e55cebc39bc
DTSTAMP:20260419T225331Z
DTSTART:20240519T160000Z
DTEND:20240519T172000Z
LOCATION:Multicines Odeón Av. de los Labradores\,  9
SUMMARY:Cine neurodiverso: Garfield
DESCRIPTION:Cine adaptado a las necesidades del autismo. Sesión abierta pa
 ra el público en general\,  no exclusiva para TEA.\nhttps://360y5.es/event
 s/cine-neurodiverso-garfield/
URL:https://360y5.es/events/cine-neurodiverso-garfield/
END:VEVENT
END:VCALENDAR