BEGIN:VCALENDAR
VERSION:2.0
PRODID:-//eventon.com NONSGML v1.0//EN
CALSCALE:GREGORIAN
METHOD:PUBLISH
BEGIN:VEVENT
UID:69e54525249db
DTSTAMP:20260419T211205Z
DTSTART:20240519T090000Z
DTEND:20240519T180000Z
LOCATION:
SUMMARY:Día en familia
DESCRIPTION:Espacio Enrique Mas\nhttps://360y5.es/events/dia-en-familia/
URL:https://360y5.es/events/dia-en-familia/
END:VEVENT
END:VCALENDAR