BEGIN:VCALENDAR
VERSION:2.0
PRODID:-//eventon.com NONSGML v1.0//EN
CALSCALE:GREGORIAN
METHOD:PUBLISH
BEGIN:VEVENT
UID:69e544ff4ebf2
DTSTAMP:20260419T211127Z
DTSTART:20240608T173000Z
DTEND:20240608T183000Z
LOCATION:Auditorio municipal
SUMMARY:Recital siglo de oro: Contento estarás\,  amor
DESCRIPTION:Sonia de Munck\,  soprano César Gutiérrez\,  tenor Miguel Hue
 rtas\,  piano Con la colaboración de las Hermanitas del Cordero. Un recorr
 ido por algunos de los más bellos textos del Siglo de Oro español. Mompou
 \,  Obradors\,  Guastavino\,  Ortega\,  Torres\,  Huertas… ponen música 
 a Lope de Vega\,  Juan de la Cruz\,  Teresa de[..]\nhttps://360y5.es/events
 /recital-siglo-de-oro-contento-estaras-amor/
URL:https://360y5.es/events/recital-siglo-de-oro-contento-estaras-amor/
END:VEVENT
END:VCALENDAR