BEGIN:VCALENDAR
VERSION:2.0
PRODID:-//eventon.com NONSGML v1.0//EN
CALSCALE:GREGORIAN
METHOD:PUBLISH
BEGIN:VEVENT
UID:69e544b160607
DTSTAMP:20260419T211009Z
DTSTART:20240609T100000Z
DTEND:20240609T110000Z
LOCATION:Auditorio municipal
SUMMARY:Espectáculo familiar: Cucú-trastrás\,  en héroe te convertirás
DESCRIPTION:Compañía: Arteluna Teatro Por fin toca… ¡Trastear! ¿Con q
 ué historias podemos jugar hoy…? Uhm… A ver… a ver… ¡Ya sé!: ¿Q
 uieres convertirte en heroína/héroe? Pues de la mano de los Cucutrastos c
 onoceremos a grandes héroes griegos\,  entre ellos a Ulises\,  Teseo\,  Ed
 ipo\,  al cíclope Polifemo… y lo pasaremos en grande.[..]\nhttps://360y5
 .es/events/espectaculo-familiar-cucu-trastras-en-heroe-te-convertiras/
URL:https://360y5.es/events/espectaculo-familiar-cucu-trastras-en-heroe-te-convertiras/
END:VEVENT
END:VCALENDAR